BEGIN:VCALENDAR
VERSION:2.0
PRODID:-//Brass Anchor Scuba Center - ECPv6.15.20//NONSGML v1.0//EN
CALSCALE:GREGORIAN
METHOD:PUBLISH
X-WR-CALNAME:Brass Anchor Scuba Center
X-ORIGINAL-URL:https://brassanchor.com
X-WR-CALDESC:Events for Brass Anchor Scuba Center
REFRESH-INTERVAL;VALUE=DURATION:PT1H
X-Robots-Tag:noindex
X-PUBLISHED-TTL:PT1H
BEGIN:VTIMEZONE
TZID:America/New_York
BEGIN:DAYLIGHT
TZOFFSETFROM:-0500
TZOFFSETTO:-0400
TZNAME:EDT
DTSTART:20250309T070000
END:DAYLIGHT
BEGIN:STANDARD
TZOFFSETFROM:-0400
TZOFFSETTO:-0500
TZNAME:EST
DTSTART:20251102T060000
END:STANDARD
BEGIN:DAYLIGHT
TZOFFSETFROM:-0500
TZOFFSETTO:-0400
TZNAME:EDT
DTSTART:20260308T070000
END:DAYLIGHT
BEGIN:STANDARD
TZOFFSETFROM:-0400
TZOFFSETTO:-0500
TZNAME:EST
DTSTART:20261101T060000
END:STANDARD
BEGIN:DAYLIGHT
TZOFFSETFROM:-0500
TZOFFSETTO:-0400
TZNAME:EDT
DTSTART:20270314T070000
END:DAYLIGHT
BEGIN:STANDARD
TZOFFSETFROM:-0400
TZOFFSETTO:-0500
TZNAME:EST
DTSTART:20271107T060000
END:STANDARD
END:VTIMEZONE
BEGIN:VEVENT
DTSTART;TZID=America/New_York:20260530T073000
DTEND;TZID=America/New_York:20260530T103000
DTSTAMP:20260420T040545
CREATED:20260401T204525Z
LAST-MODIFIED:20260401T205437Z
UID:15583-1780126200-1780137000@brassanchor.com
SUMMARY:PADI Confined Water training
DESCRIPTION:Brettonwoods Pool\, German Town
URL:https://brassanchor.com/event/padi-confined-water-training/2026-05-30/
END:VEVENT
BEGIN:VEVENT
DTSTART;TZID=America/New_York:20260527T183000
DTEND;TZID=America/New_York:20260527T213000
DTSTAMP:20260420T040545
CREATED:20260121T201018Z
LAST-MODIFIED:20260121T201018Z
UID:3969-1779906600-1779917400@brassanchor.com
SUMMARY:Enriched Air Diver
DESCRIPTION:
URL:https://brassanchor.com/event/enriched-air-diver/2026-05-27/
LOCATION:Brass Anchor\, 519 E Church Street\, Frederick\, MD\, 21701\, United States
END:VEVENT
BEGIN:VEVENT
DTSTART;TZID=America/New_York:20260521T183000
DTEND;TZID=America/New_York:20260521T213000
DTSTAMP:20260420T040545
CREATED:20260116T002923Z
LAST-MODIFIED:20260401T203257Z
UID:15521-1779388200-1779399000@brassanchor.com
SUMMARY:PADI Open Water Course Part 1b of 2
DESCRIPTION:Classroom
URL:https://brassanchor.com/event/padi-open-water-course-part-2-of-3/2026-05-21/
LOCATION:Brass Anchor\, 519 E Church Street\, Frederick\, MD\, 21701\, United States
CATEGORIES:Courses
ORGANIZER;CN="Andre Fedak":MAILTO:andre@brassanchor.com
END:VEVENT
BEGIN:VEVENT
DTSTART;TZID=America/New_York:20260520T183000
DTEND;TZID=America/New_York:20260520T213000
DTSTAMP:20260420T040545
CREATED:20260117T012819Z
LAST-MODIFIED:20260401T203417Z
UID:15519-1779301800-1779312600@brassanchor.com
SUMMARY:PADI Open Water Course: Part 1a of 2
DESCRIPTION:
URL:https://brassanchor.com/event/padi-open-water-course-part-1-of-2/2026-05-20/
LOCATION:Hood College\, 561 Hodson Drive\, Frederick\, MD\, 21701
ORGANIZER;CN="Andre Fedak":MAILTO:andre@brassanchor.com
END:VEVENT
BEGIN:VEVENT
DTSTART;TZID=America/New_York:20260514T183000
DTEND;TZID=America/New_York:20260514T213000
DTSTAMP:20260420T040545
CREATED:20260404T201341Z
LAST-MODIFIED:20260404T201341Z
UID:16211-1778783400-1778794200@brassanchor.com
SUMMARY:PADI Rescue Diver classroom Session
DESCRIPTION:
URL:https://brassanchor.com/event/padi-rescue-diver-classroom-session/2026-05-14/
LOCATION:Brass Anchor\, 519 E Church Street\, Frederick\, MD\, 21701\, United States
CATEGORIES:Courses
END:VEVENT
BEGIN:VEVENT
DTSTART;TZID=America/New_York:20260513T183000
DTEND;TZID=America/New_York:20260513T213000
DTSTAMP:20260420T040545
CREATED:20260404T201341Z
LAST-MODIFIED:20260404T201341Z
UID:16210-1778697000-1778707800@brassanchor.com
SUMMARY:PADI Rescue Diver classroom Session
DESCRIPTION:
URL:https://brassanchor.com/event/padi-rescue-diver-classroom-session/2026-05-13/
LOCATION:Brass Anchor\, 519 E Church Street\, Frederick\, MD\, 21701\, United States
CATEGORIES:Courses
END:VEVENT
BEGIN:VEVENT
DTSTART;TZID=America/New_York:20260506T183000
DTEND;TZID=America/New_York:20260506T220000
DTSTAMP:20260420T040545
CREATED:20260404T195800Z
LAST-MODIFIED:20260404T195945Z
UID:16206-1778092200-1778104800@brassanchor.com
SUMMARY:Emergency Responder first and Secondary care course
DESCRIPTION:CPR and Emergency First responder and secondary first aid class @ Brass Anchor Classroom
URL:https://brassanchor.com/event/emergency-responder-first-and-secondary-care-course/
CATEGORIES:Courses
END:VEVENT
BEGIN:VEVENT
DTSTART;TZID=America/New_York:20260430T183000
DTEND;TZID=America/New_York:20260430T213000
DTSTAMP:20260420T040545
CREATED:20260121T201018Z
LAST-MODIFIED:20260121T201018Z
UID:3968-1777573800-1777584600@brassanchor.com
SUMMARY:Enriched Air Diver
DESCRIPTION:
URL:https://brassanchor.com/event/enriched-air-diver/2026-04-30/
LOCATION:Brass Anchor\, 519 E Church Street\, Frederick\, MD\, 21701\, United States
END:VEVENT
BEGIN:VEVENT
DTSTART;TZID=America/New_York:20260425T150000
DTEND;TZID=America/New_York:20260425T160000
DTSTAMP:20260420T040545
CREATED:20260226T172722Z
LAST-MODIFIED:20260226T172722Z
UID:8917-1777129200-1777132800@brassanchor.com
SUMMARY:PADI Discover Scuba Diving
DESCRIPTION:
URL:https://brassanchor.com/event/padi-discover-scuba-diving/2026-04-25/
END:VEVENT
BEGIN:VEVENT
DTSTART;TZID=America/New_York:20260425T130000
DTEND;TZID=America/New_York:20260425T180000
DTSTAMP:20260420T040545
CREATED:20260226T171227Z
LAST-MODIFIED:20260226T171302Z
UID:8888-1777122000-1777140000@brassanchor.com
SUMMARY:Confined Water Open Water In- Pool training
DESCRIPTION:
URL:https://brassanchor.com/event/confined-water-open-water-in-pool-training/2026-04-25/
LOCATION:Hood College\, 561 Hodson Drive\, Frederick\, MD\, 21701
END:VEVENT
BEGIN:VEVENT
DTSTART;TZID=America/New_York:20260425T130000
DTEND;TZID=America/New_York:20260425T150000
DTSTAMP:20260420T040545
CREATED:20260226T184715Z
LAST-MODIFIED:20260226T184715Z
UID:8915-1777122000-1777129200@brassanchor.com
SUMMARY:PADI Re-Activate/ Scuba Refresher
DESCRIPTION:
URL:https://brassanchor.com/event/padi-re-activate-scuba-refresher/2026-04-25/
END:VEVENT
BEGIN:VEVENT
DTSTART;TZID=America/New_York:20260423T183000
DTEND;TZID=America/New_York:20260423T213000
DTSTAMP:20260420T040545
CREATED:20260116T002923Z
LAST-MODIFIED:20260401T203257Z
UID:11714-1776969000-1776979800@brassanchor.com
SUMMARY:PADI Open Water Course Part 1b of 2
DESCRIPTION:Classroom
URL:https://brassanchor.com/event/padi-open-water-course-part-2-of-3/2026-04-23/
LOCATION:Brass Anchor\, 519 E Church Street\, Frederick\, MD\, 21701\, United States
CATEGORIES:Courses
ORGANIZER;CN="Andre Fedak":MAILTO:andre@brassanchor.com
END:VEVENT
BEGIN:VEVENT
DTSTART;TZID=America/New_York:20260422T183000
DTEND;TZID=America/New_York:20260422T213000
DTSTAMP:20260420T040545
CREATED:20260117T012819Z
LAST-MODIFIED:20260401T203417Z
UID:11711-1776882600-1776893400@brassanchor.com
SUMMARY:PADI Open Water Course: Part 1a of 2
DESCRIPTION:
URL:https://brassanchor.com/event/padi-open-water-course-part-1-of-2/2026-04-22/
LOCATION:Hood College\, 561 Hodson Drive\, Frederick\, MD\, 21701
ORGANIZER;CN="Andre Fedak":MAILTO:andre@brassanchor.com
END:VEVENT
BEGIN:VEVENT
DTSTART;TZID=America/New_York:20260325T183000
DTEND;TZID=America/New_York:20260325T213000
DTSTAMP:20260420T040545
CREATED:20260121T201018Z
LAST-MODIFIED:20260121T201018Z
UID:3967-1774463400-1774474200@brassanchor.com
SUMMARY:Enriched Air Diver
DESCRIPTION:
URL:https://brassanchor.com/event/enriched-air-diver/2026-03-25/
LOCATION:Brass Anchor\, 519 E Church Street\, Frederick\, MD\, 21701\, United States
END:VEVENT
BEGIN:VEVENT
DTSTART;TZID=America/New_York:20260321T150000
DTEND;TZID=America/New_York:20260321T160000
DTSTAMP:20260420T040545
CREATED:20260226T172722Z
LAST-MODIFIED:20260226T185124Z
UID:8894-1774105200-1774108800@brassanchor.com
SUMMARY:PADI Discover Scuba Diving
DESCRIPTION:
URL:https://brassanchor.com/event/padi-discover-scuba-diving/2026-03-21/
END:VEVENT
BEGIN:VEVENT
DTSTART;TZID=America/New_York:20260321T130000
DTEND;TZID=America/New_York:20260321T180000
DTSTAMP:20260420T040545
CREATED:20260226T171227Z
LAST-MODIFIED:20260226T171302Z
UID:8886-1774098000-1774116000@brassanchor.com
SUMMARY:Confined Water Open Water In- Pool training
DESCRIPTION:
URL:https://brassanchor.com/event/confined-water-open-water-in-pool-training/2026-03-21/
LOCATION:Hood College\, 561 Hodson Drive\, Frederick\, MD\, 21701
END:VEVENT
BEGIN:VEVENT
DTSTART;TZID=America/New_York:20260321T130000
DTEND;TZID=America/New_York:20260321T150000
DTSTAMP:20260420T040545
CREATED:20260226T184715Z
LAST-MODIFIED:20260226T184715Z
UID:8914-1774098000-1774105200@brassanchor.com
SUMMARY:PADI Re-Activate/ Scuba Refresher
DESCRIPTION:
URL:https://brassanchor.com/event/padi-re-activate-scuba-refresher/2026-03-21/
END:VEVENT
BEGIN:VEVENT
DTSTART;TZID=America/New_York:20260319T183000
DTEND;TZID=America/New_York:20260319T213000
DTSTAMP:20260420T040545
CREATED:20260116T002923Z
LAST-MODIFIED:20260401T203257Z
UID:13331-1773945000-1773955800@brassanchor.com
SUMMARY:PADI Open Water Course Part 1b of 2
DESCRIPTION:Classroom
URL:https://brassanchor.com/event/padi-open-water-course-part-2-of-3/2026-03-19/
LOCATION:Brass Anchor\, 519 E Church Street\, Frederick\, MD\, 21701\, United States
CATEGORIES:Courses
ORGANIZER;CN="Andre Fedak":MAILTO:andre@brassanchor.com
END:VEVENT
BEGIN:VEVENT
DTSTART;TZID=America/New_York:20260318T183000
DTEND;TZID=America/New_York:20260318T213000
DTSTAMP:20260420T040545
CREATED:20260117T012819Z
LAST-MODIFIED:20260401T203417Z
UID:13329-1773858600-1773869400@brassanchor.com
SUMMARY:PADI Open Water Course: Part 1a of 2
DESCRIPTION:
URL:https://brassanchor.com/event/padi-open-water-course-part-1-of-2/2026-03-18/
LOCATION:Hood College\, 561 Hodson Drive\, Frederick\, MD\, 21701
ORGANIZER;CN="Andre Fedak":MAILTO:andre@brassanchor.com
END:VEVENT
BEGIN:VEVENT
DTSTART;TZID=America/New_York:20260225T183000
DTEND;TZID=America/New_York:20260225T213000
DTSTAMP:20260420T040545
CREATED:20260121T201018Z
LAST-MODIFIED:20260121T201018Z
UID:3966-1772044200-1772055000@brassanchor.com
SUMMARY:Enriched Air Diver
DESCRIPTION:
URL:https://brassanchor.com/event/enriched-air-diver/2026-02-25/
LOCATION:Brass Anchor\, 519 E Church Street\, Frederick\, MD\, 21701\, United States
END:VEVENT
BEGIN:VEVENT
DTSTART;TZID=America/New_York:20260222T100000
DTEND;TZID=America/New_York:20260222T150000
DTSTAMP:20260420T040545
CREATED:20260116T005310Z
LAST-MODIFIED:20260226T184125Z
UID:3917-1771754400-1771772400@brassanchor.com
SUMMARY:PADI Open Water Course: Part 2 of 2
DESCRIPTION:Pool:  PADI Confined Water Skills & Development
URL:https://brassanchor.com/event/padi-open-water-course-part-3-of-3/2026-02-22/
LOCATION:Hood College\, 561 Hodson Drive\, Frederick\, MD\, 21701
CATEGORIES:Courses
ORGANIZER;CN="Andre Fedak":MAILTO:andre@brassanchor.com
END:VEVENT
BEGIN:VEVENT
DTSTART;TZID=America/New_York:20260222T100000
DTEND;TZID=America/New_York:20260222T120000
DTSTAMP:20260420T040545
CREATED:20260121T200536Z
LAST-MODIFIED:20260226T184505Z
UID:3956-1771754400-1771761600@brassanchor.com
SUMMARY:PADI Re-Activate
DESCRIPTION:
URL:https://brassanchor.com/event/padi-re-activate/2026-02-22/
END:VEVENT
BEGIN:VEVENT
DTSTART;TZID=America/New_York:20260222T100000
DTEND;TZID=America/New_York:20260222T120000
DTSTAMP:20260420T040545
CREATED:20260121T193907Z
LAST-MODIFIED:20260226T183951Z
UID:3940-1771754400-1771761600@brassanchor.com
SUMMARY:Discover Scuba Diving
DESCRIPTION:
URL:https://brassanchor.com/event/discover-scuba-diving/2026-02-22/
END:VEVENT
BEGIN:VEVENT
DTSTART;TZID=America/New_York:20260219T183000
DTEND;TZID=America/New_York:20260219T213000
DTSTAMP:20260420T040545
CREATED:20260117T012819Z
LAST-MODIFIED:20260117T013637Z
UID:3909-1771525800-1771536600@brassanchor.com
SUMMARY:PADI Open Water Course: Part 1 of 2
DESCRIPTION:
URL:https://brassanchor.com/event/padi-open-water-course-part-1-of-2-2026-02-19/2026-02-19/
LOCATION:Hood College\, 561 Hodson Drive\, Frederick\, MD\, 21701
ORGANIZER;CN="Andre Fedak":MAILTO:andre@brassanchor.com
END:VEVENT
BEGIN:VEVENT
DTSTART;TZID=America/New_York:20260218T183000
DTEND;TZID=America/New_York:20260218T213000
DTSTAMP:20260420T040545
CREATED:20260117T012819Z
LAST-MODIFIED:20260401T203417Z
UID:3908-1771439400-1771450200@brassanchor.com
SUMMARY:PADI Open Water Course: Part 1a of 2
DESCRIPTION:
URL:https://brassanchor.com/event/padi-open-water-course-part-1-of-2/2026-02-18/
LOCATION:Hood College\, 561 Hodson Drive\, Frederick\, MD\, 21701
ORGANIZER;CN="Andre Fedak":MAILTO:andre@brassanchor.com
END:VEVENT
BEGIN:VEVENT
DTSTART;TZID=America/New_York:20260129T183000
DTEND;TZID=America/New_York:20260129T213000
DTSTAMP:20260420T040545
CREATED:20260121T201018Z
LAST-MODIFIED:20260121T201139Z
UID:3960-1769711400-1769722200@brassanchor.com
SUMMARY:Enriched Air Diver
DESCRIPTION:
URL:https://brassanchor.com/event/enriched-air-diver/2026-01-29/
LOCATION:Brass Anchor\, 519 E Church Street\, Frederick\, MD\, 21701\, United States
END:VEVENT
BEGIN:VEVENT
DTSTART;TZID=America/New_York:20260125T100000
DTEND;TZID=America/New_York:20260125T150000
DTSTAMP:20260420T040545
CREATED:20260116T005310Z
LAST-MODIFIED:20260226T184125Z
UID:3900-1769335200-1769353200@brassanchor.com
SUMMARY:PADI Open Water Course: Part 2 of 2
DESCRIPTION:Pool:  PADI Confined Water Skills & Development
URL:https://brassanchor.com/event/padi-open-water-course-part-3-of-3/2026-01-25/
LOCATION:Hood College\, 561 Hodson Drive\, Frederick\, MD\, 21701
CATEGORIES:Courses
ORGANIZER;CN="Andre Fedak":MAILTO:andre@brassanchor.com
END:VEVENT
BEGIN:VEVENT
DTSTART;TZID=America/New_York:20260125T100000
DTEND;TZID=America/New_York:20260125T120000
DTSTAMP:20260420T040545
CREATED:20260121T200536Z
LAST-MODIFIED:20260226T184505Z
UID:3955-1769335200-1769342400@brassanchor.com
SUMMARY:PADI Re-Activate
DESCRIPTION:
URL:https://brassanchor.com/event/padi-re-activate/2026-01-25/
END:VEVENT
BEGIN:VEVENT
DTSTART;TZID=America/New_York:20260125T100000
DTEND;TZID=America/New_York:20260125T120000
DTSTAMP:20260420T040545
CREATED:20260121T193907Z
LAST-MODIFIED:20260226T183951Z
UID:3905-1769335200-1769342400@brassanchor.com
SUMMARY:Discover Scuba Diving
DESCRIPTION:
URL:https://brassanchor.com/event/discover-scuba-diving/2026-01-25/
END:VEVENT
BEGIN:VEVENT
DTSTART;TZID=America/New_York:20260122T183000
DTEND;TZID=America/New_York:20260122T213000
DTSTAMP:20260420T040545
CREATED:20260116T002923Z
LAST-MODIFIED:20260401T203256Z
UID:3898-1769106600-1769117400@brassanchor.com
SUMMARY:PADI Open Water Course Part 1b of 2
DESCRIPTION:Classroom
URL:https://brassanchor.com/event/padi-open-water-course-part-2-of-3/2026-01-22/
LOCATION:Brass Anchor\, 519 E Church Street\, Frederick\, MD\, 21701\, United States
CATEGORIES:Courses
ORGANIZER;CN="Andre Fedak":MAILTO:andre@brassanchor.com
END:VEVENT
END:VCALENDAR