BEGIN:VCALENDAR
VERSION:2.0
PRODID:-//Brass Anchor Scuba Center - ECPv6.15.20//NONSGML v1.0//EN
CALSCALE:GREGORIAN
METHOD:PUBLISH
X-WR-CALNAME:Brass Anchor Scuba Center
X-ORIGINAL-URL:https://brassanchor.com
X-WR-CALDESC:Events for Brass Anchor Scuba Center
REFRESH-INTERVAL;VALUE=DURATION:PT1H
X-Robots-Tag:noindex
X-PUBLISHED-TTL:PT1H
BEGIN:VTIMEZONE
TZID:America/New_York
BEGIN:DAYLIGHT
TZOFFSETFROM:-0500
TZOFFSETTO:-0400
TZNAME:EDT
DTSTART:20250309T070000
END:DAYLIGHT
BEGIN:STANDARD
TZOFFSETFROM:-0400
TZOFFSETTO:-0500
TZNAME:EST
DTSTART:20251102T060000
END:STANDARD
BEGIN:DAYLIGHT
TZOFFSETFROM:-0500
TZOFFSETTO:-0400
TZNAME:EDT
DTSTART:20260308T070000
END:DAYLIGHT
BEGIN:STANDARD
TZOFFSETFROM:-0400
TZOFFSETTO:-0500
TZNAME:EST
DTSTART:20261101T060000
END:STANDARD
BEGIN:DAYLIGHT
TZOFFSETFROM:-0500
TZOFFSETTO:-0400
TZNAME:EDT
DTSTART:20270314T070000
END:DAYLIGHT
BEGIN:STANDARD
TZOFFSETFROM:-0400
TZOFFSETTO:-0500
TZNAME:EST
DTSTART:20271107T060000
END:STANDARD
END:VTIMEZONE
BEGIN:VEVENT
DTSTART;TZID=America/New_York:20260617T183000
DTEND;TZID=America/New_York:20260617T213000
DTSTAMP:20260420T023522
CREATED:20260117T012819Z
LAST-MODIFIED:20260117T012819Z
UID:15580-1781721000-1781731800@brassanchor.com
SUMMARY:PADI Open Water Course: Part 1a of 2
DESCRIPTION:
URL:https://brassanchor.com/event/padi-open-water-course-part-1-of-2/2026-06-17/
LOCATION:Hood College\, 561 Hodson Drive\, Frederick\, MD\, 21701
ORGANIZER;CN="Andre Fedak":MAILTO:andre@brassanchor.com
END:VEVENT
END:VCALENDAR